BEGIN:VCALENDAR
VERSION:2.0
PRODID:-//Silvie Rider Young; Musician-Singer-SongWriter - ECPv6.15.20//NONSGML v1.0//EN
CALSCALE:GREGORIAN
METHOD:PUBLISH
X-WR-CALNAME:Silvie Rider Young; Musician-Singer-SongWriter
X-ORIGINAL-URL:https://silvierideryoung.com
X-WR-CALDESC:Events for Silvie Rider Young; Musician-Singer-SongWriter
REFRESH-INTERVAL;VALUE=DURATION:PT1H
X-Robots-Tag:noindex
X-PUBLISHED-TTL:PT1H
BEGIN:VTIMEZONE
TZID:UTC
BEGIN:STANDARD
TZOFFSETFROM:+0000
TZOFFSETTO:+0000
TZNAME:UTC
DTSTART:20240101T000000
END:STANDARD
END:VTIMEZONE
BEGIN:VEVENT
DTSTART;TZID=UTC:20250501T110000
DTEND;TZID=UTC:20261230T180000
DTSTAMP:20260425T141237
CREATED:20240528T203153Z
LAST-MODIFIED:20250519T224427Z
UID:5525-1746097200-1798653600@silvierideryoung.com
SUMMARY:Compilation CD in work: SILVIE RIDER YOUNG-EASY RIDER YOUNG
DESCRIPTION:
URL:https://silvierideryoung.com/concerts/compilation-cd-in-work-easy-rider-young-2024/
END:VEVENT
BEGIN:VEVENT
DTSTART;TZID=UTC:20260301T110000
DTEND;TZID=UTC:20261231T170000
DTSTAMP:20260425T141237
CREATED:20251113T225433Z
LAST-MODIFIED:20260417T053638Z
UID:6146-1772362800-1798736400@silvierideryoung.com
SUMMARY:SILVIE RIDER YOUNG-EASY RIDER YOUNG Compilation Album Vol 1/2026
DESCRIPTION:I’m excited to be putting together my digital compilation album SILVIE RIDER YOUNG -EASY RIDER YOUNG Vol1&Vol 2  coming out in  2026 !! with recordings\, live Concert cuts  and original compositions \,  along with former Bands Babytalk\, Starfighter and with great musician friends  from Europe\, Munich\, Berlin\, Suisse-Switzerland my Homeland and The USA \, my Residency since 2007 \nstyle: Jazz \,classical\, rock\, electronic\, fusion\, originals and my compositions …Quote Albert Einstein:  “without music all is nothing “
URL:https://silvierideryoung.com/concerts/compilation-album-easy-rider-young-coming-out-in-2026/
CATEGORIES:2026
END:VEVENT
END:VCALENDAR